BEGIN:VCALENDAR
VERSION:2.0
PRODID:-//mmpBusiness III
BEGIN:VEVENT
UID:438@info-handicap.lu
DTSTAMP:20180507T133839Z
ORGANIZER;CN=Info-Handicap Luxembourg:MAILTO:agenda@iha.lu
DTSTART;TZID=Europe/Luxembourg;VALUE=DATE:20180530
DTEND;TZID=Europe/Luxembourg;VALUE=DATE:20180601
SUMMARY:Inclusion International: 17th World Cong
 ress
DESCRIPTION:
LOCATION:The International Convention Centre\n8 C
 entenary Square\nBirmingham\, UK
URL:http://agenda.info-handicap.lu/page/eventmanager.event/438/FRE/index.html
LAST-MODIFIED:20180507T133839Z
SEQUENCE:1
STATUS:CONFIRMED
METHOD:PUBLISH
END:VEVENT
BEGIN:VEVENT
UID:451@info-handicap.lu
DTSTAMP:20180517T140724Z
ORGANIZER;CN=Info-Handicap Luxembourg:MAILTO:agenda@iha.lu
DTSTART;TZID=Europe/Luxembourg:20180601T200000
DTEND;TZID=Europe/Luxembourg;VALUE=DATE:20180601
SUMMARY:Sangen ALS Challenge
DESCRIPTION:\nOrganisation - Wäertvollt Liewen asbl
LOCATION:Conservatoire de la Ville de Luxembourg
URL:http://agenda.info-handicap.lu/page/eventmanager.event/451/FRE/index.html
LAST-MODIFIED:20180517T140724Z
SEQUENCE:1
STATUS:CONFIRMED
METHOD:PUBLISH
END:VEVENT
BEGIN:VEVENT
UID:425@info-handicap.lu
DTSTAMP:20180420T105605Z
ORGANIZER;CN=Info-Handicap Luxembourg:MAILTO:agenda@iha.lu
DTSTART;TZID=Europe/Luxembourg:20180606T190000
DTEND;TZID=Europe/Luxembourg:20180606T220000
SUMMARY:Projection de film : « 24 Wochen » (24 s
 emaines) un film émouvant de Anne Zohra 
 Berrached
DESCRIPTION:\nOrganisation - Ville de Luxembourg
LOCATION:Kinepolis - Kirchberg
URL:http://agenda.info-handicap.lu/page/eventmanager.event/425/FRE/index.html
LAST-MODIFIED:20180420T105605Z
SEQUENCE:1
STATUS:CONFIRMED
METHOD:PUBLISH
END:VEVENT
BEGIN:VEVENT
UID:413@info-handicap.lu
DTSTAMP:20180405T154923Z
ORGANIZER;CN=Info-Handicap Luxembourg:MAILTO:agenda@iha.lu
DTSTART;TZID=Europe/Luxembourg:20180610T140000
DTEND;TZID=Europe/Luxembourg:20180610T170000
SUMMARY:"i-Run"
DESCRIPTION:Une course accessible à Differdange
LOCATION:Differdange\, place des Alliés
URL:http://agenda.info-handicap.lu/page/eventmanager.event/413/FRE/index.html
LAST-MODIFIED:20180405T154923Z
SEQUENCE:1
STATUS:CONFIRMED
METHOD:PUBLISH
END:VEVENT
BEGIN:VEVENT
UID:439@info-handicap.lu
DTSTAMP:20180508T105058Z
ORGANIZER;CN=Info-Handicap Luxembourg:MAILTO:agenda@iha.lu
DTSTART;TZID=Europe/Luxembourg:20180610T143000
DTEND;TZID=Europe/Luxembourg:20180610T180000
SUMMARY:i-Run
DESCRIPTION:course en TEAM à allure libre (Course d'
 inclusion-bouger ensemble)
LOCATION:Differdange\, place des Alliées
URL:http://agenda.info-handicap.lu/page/eventmanager.event/439/FRE/index.html
LAST-MODIFIED:20180508T105058Z
SEQUENCE:1
STATUS:CONFIRMED
METHOD:PUBLISH
END:VEVENT
BEGIN:VEVENT
UID:452@info-handicap.lu
DTSTAMP:20180531T210029Z
ORGANIZER;CN=Info-Handicap Luxembourg:MAILTO:agenda@iha.lu
DTSTART;TZID=Europe/Luxembourg:20180616T110000
DTEND;TZID=Europe/Luxembourg:20180616T180000
SUMMARY:Fête d'été à l'Institut pour IMC
DESCRIPTION:
LOCATION:Institut pour IMC\n1\, Place Thomas Ediso
 n\nL-1483 STRASSEN
URL:http://agenda.info-handicap.lu/page/eventmanager.event/452/FRE/index.html
LAST-MODIFIED:20180531T210029Z
SEQUENCE:1
STATUS:CONFIRMED
METHOD:PUBLISH
END:VEVENT
BEGIN:VEVENT
UID:454@info-handicap.lu
DTSTAMP:20180605T183515Z
ORGANIZER;CN=Info-Handicap Luxembourg:MAILTO:agenda@iha.lu
DTSTART;TZID=Europe/Luxembourg:20180617T110000
DTEND;TZID=Europe/Luxembourg:20180617T170000
SUMMARY:Grill um Bill
DESCRIPTION:fête d'été de Multiple sclérose Lëtzebue
 rg\nOrganisation - Multiple Sclérose Lëtzebuerg
LOCATION:MS Day Center "Um Bill"\nMaison 1\nL-742
 5 Bill
URL:http://agenda.info-handicap.lu/page/eventmanager.event/454/FRE/index.html
LAST-MODIFIED:20180605T183515Z
SEQUENCE:1
STATUS:CONFIRMED
METHOD:PUBLISH
END:VEVENT
BEGIN:VEVENT
UID:455@info-handicap.lu
DTSTAMP:20180617T204639Z
ORGANIZER;CN=Info-Handicap Luxembourg:MAILTO:agenda@iha.lu
DTSTART;TZID=Europe/Luxembourg:20180621T180000
DTEND;TZID=Europe/Luxembourg:20180621T193000
SUMMARY:L'Europe\, ma santé… et moi!
DESCRIPTION:
LOCATION:Théâtre des Capucins - Place du Théâtre 
 - L-2613 Luxembourg
URL:http://agenda.info-handicap.lu/page/eventmanager.event/455/FRE/index.html
LAST-MODIFIED:20180617T204639Z
SEQUENCE:1
STATUS:CONFIRMED
METHOD:PUBLISH
END:VEVENT
BEGIN:VEVENT
UID:457@info-handicap.lu
DTSTAMP:20180619T092415Z
ORGANIZER;CN=Info-Handicap Luxembourg:MAILTO:agenda@iha.lu
DTSTART;TZID=Europe/Luxembourg;VALUE=DATE:20180801
DTEND;TZID=Europe/Luxembourg;VALUE=DATE:20180801
SUMMARY:Visite en langue facile
DESCRIPTION:
LOCATION:Villa Vauban - Musée d'Art de la Ville d
 e Luxembourg
URL:http://agenda.info-handicap.lu/page/eventmanager.event/457/FRE/index.html
LAST-MODIFIED:20180619T092415Z
SEQUENCE:1
STATUS:CONFIRMED
METHOD:PUBLISH
END:VEVENT
BEGIN:VEVENT
UID:458@info-handicap.lu
DTSTAMP:20180619T092821Z
ORGANIZER;CN=Info-Handicap Luxembourg:MAILTO:agenda@iha.lu
DTSTART;TZID=Europe/Luxembourg;VALUE=DATE:20180808
DTEND;TZID=Europe/Luxembourg;VALUE=DATE:20180808
SUMMARY:Visite en langue des signes
DESCRIPTION:
LOCATION:Villa Vauban - Musée d'Art de la Ville d
 e Luxembourg
URL:http://agenda.info-handicap.lu/page/eventmanager.event/458/FRE/index.html
LAST-MODIFIED:20180619T092821Z
SEQUENCE:1
STATUS:CONFIRMED
METHOD:PUBLISH
END:VEVENT
BEGIN:VEVENT
UID:456@info-handicap.lu
DTSTAMP:20180619T092135Z
ORGANIZER;CN=Info-Handicap Luxembourg:MAILTO:agenda@iha.lu
DTSTART;TZID=Europe/Luxembourg;VALUE=DATE:20180822
DTEND;TZID=Europe/Luxembourg;VALUE=DATE:20180822
SUMMARY:Visite pour personnes malvoyantes ou ave
 ugles
DESCRIPTION:
LOCATION:Villa Vauban - Musée d'Art de la Ville d
 e Luxembourg
URL:http://agenda.info-handicap.lu/page/eventmanager.event/456/FRE/index.html
LAST-MODIFIED:20180619T092135Z
SEQUENCE:1
STATUS:CONFIRMED
METHOD:PUBLISH
END:VEVENT
BEGIN:VEVENT
UID:440@info-handicap.lu
DTSTAMP:20180514T215603Z
ORGANIZER;CN=Info-Handicap Luxembourg:MAILTO:agenda@iha.lu
DTSTART;TZID=Europe/Luxembourg;VALUE=DATE:20181010
DTEND;TZID=Europe/Luxembourg;VALUE=DATE:20181010
SUMMARY:Journée Mondiale de la Santé Mentale (OM
 S/WHO)
DESCRIPTION:
LOCATION:LUXEMBOURG
URL:http://agenda.info-handicap.lu/page/eventmanager.event/440/FRE/index.html
LAST-MODIFIED:20180516T101246Z
SEQUENCE:2
STATUS:CONFIRMED
METHOD:PUBLISH
END:VEVENT
BEGIN:VEVENT
UID:448@info-handicap.lu
DTSTAMP:20180517T130541Z
ORGANIZER;CN=Info-Handicap Luxembourg:MAILTO:agenda@iha.lu
DTSTART;TZID=Europe/Luxembourg;VALUE=DATE:20181203
DTEND;TZID=Europe/Luxembourg;VALUE=DATE:20181203
SUMMARY:Journée internationale des personnes en 
 situation de handicap
DESCRIPTION:
LOCATION:Evénement mondiale. Lieux précis au Luxe
 mbourg restent à confirmer.
URL:http://agenda.info-handicap.lu/page/eventmanager.event/448/FRE/index.html
LAST-MODIFIED:20180517T130541Z
SEQUENCE:1
STATUS:CONFIRMED
METHOD:PUBLISH
END:VEVENT
END:VCALENDAR
